BEGIN:VCALENDAR
VERSION:2.0
PRODID:-//AISC - ECPv5.16.4.1//NONSGML v1.0//EN
CALSCALE:GREGORIAN
METHOD:PUBLISH
X-WR-CALNAME:AISC
X-ORIGINAL-URL:https://aisc-org.it
X-WR-CALDESC:Events for AISC
REFRESH-INTERVAL;VALUE=DURATION:PT1H
X-Robots-Tag:noindex
X-PUBLISHED-TTL:PT1H
BEGIN:VTIMEZONE
TZID:Europe/Rome
BEGIN:DAYLIGHT
TZOFFSETFROM:+0100
TZOFFSETTO:+0200
TZNAME:CEST
DTSTART:20260329T010000
END:DAYLIGHT
BEGIN:STANDARD
TZOFFSETFROM:+0200
TZOFFSETTO:+0100
TZNAME:CET
DTSTART:20261025T010000
END:STANDARD
END:VTIMEZONE
BEGIN:VEVENT
DTSTART;TZID=Europe/Rome:20260130T100000
DTEND;TZID=Europe/Rome:20260130T173000
DTSTAMP:20260419T195547
CREATED:20251230T153404Z
LAST-MODIFIED:20251230T153542Z
UID:11922-1769767200-1769794200@aisc-org.it
SUMMARY:Presentazione del volume / Giornata di Studi - Media cinesi Fonti\, metodi\, analisi (M. Caschera\, N. Riva. Carocci\, 2025)
DESCRIPTION:Venerdì 30 gennaio il Dipartimento di Filologia e Critica Letteraria (DFCLAM) dell’Università di Siena ospiterà presso il Campus del Pionta di Arezzo una giornata di studi e la prima presentazione di “Media cinesi. Fonti\, metodi\, analisi” (Martina Caschera e Natalia Riva; Carocci\, 2025). \nPresentazione del volume\nCome si racconta la Cina attraverso i suoi media? Per rispondere a questa domanda\, il volume propone uno sguardo corale e al tempo stesso articolato sul complesso sistema comunicativo della Repubblica popolare cinese. Pensato per studenti\, docenti e ricercatori – sinologi e non – ma utile anche a chiunque desideri orientarsi nel vasto panorama mediale cinese\, offre uno strumento chiaro e aggiornato per capire come la Cina costruisce e diffonde la propria produzione culturale e discorsiva. Dalla stampa alla radio\, dal cinema alla televisione\, dalla pubblicità al fumetto fino a internet e ai social media\, ogni capitolo unisce una solida introduzione storica ad analisi che mettono a fuoco criticità\, sfide\, fonti\, metodi e casi di studio. Grazie al contributo dei maggiori esperti italiani del settore\, il libro delinea percorsi di ricerca autorevoli e stimolanti\, fornendo una guida essenziale per comprendere il ruolo dei media nella Cina moderna e contemporanea. \nLa giornata di studi e la pubblicazione del volume sono due attività realizzate da YZMT (Yidali Zhongguo meiti 意大利中国媒体) – MediumItaliaCina\, una rete di studiosi di diverse università italiane interessati allo studio della comunicazione e del sistema mediatico cinesi e ai rapporti (effettivi e potenziali) fra Italia e Cina in questi ambiti. \nPer info gianluigi.negro@unisi.it
URL:https://aisc-org.it/event/presentazione-del-volume-giornata-di-studi-media-cinesi-fonti-metodi-analisi-m-caschera-n-riva-carocci-2025/
CATEGORIES:Presentazioni libri,Seminari
ATTACH;FMTTYPE=image/jpeg:https://aisc-org.it/wp-content/uploads/2025/12/Gioranta-di-Studio-Media-Cinesi-Arezzo-30-gennaio-2026-locandina-largebis.jpg
END:VEVENT
END:VCALENDAR