BEGIN:VCALENDAR
VERSION:2.0
PRODID:-//AISC - ECPv5.16.4.1//NONSGML v1.0//EN
CALSCALE:GREGORIAN
METHOD:PUBLISH
X-ORIGINAL-URL:https://aisc-org.it
X-WR-CALDESC:Events for AISC
REFRESH-INTERVAL;VALUE=DURATION:PT1H
X-Robots-Tag:noindex
X-PUBLISHED-TTL:PT1H
BEGIN:VTIMEZONE
TZID:Europe/Rome
BEGIN:DAYLIGHT
TZOFFSETFROM:+0100
TZOFFSETTO:+0200
TZNAME:CEST
DTSTART:20240331T010000
END:DAYLIGHT
BEGIN:STANDARD
TZOFFSETFROM:+0200
TZOFFSETTO:+0100
TZNAME:CET
DTSTART:20241027T010000
END:STANDARD
END:VTIMEZONE
BEGIN:VEVENT
DTSTART;VALUE=DATE:20241104
DTEND;VALUE=DATE:20241109
DTSTAMP:20260420T202856
CREATED:20241030T153321Z
LAST-MODIFIED:20241030T153321Z
UID:9690-1730678400-1731110399@aisc-org.it
SUMMARY:Chinese Writers’ Residency in Venice: Meeting Wang Anyi
DESCRIPTION:Siamo liete di annunciare la visita di Wang Anyi 王安忆 all’Università Ca’ Foscari Venezia nell’ambito del Chinese Writers’ Residency Program 2024\, che si terrà quest’anno dal 4 all’8 novembre. \nTra gli eventi in programma la scrittrice parteciperà a un Laboratorio di traduzione a cura di Nicoletta Pesaro e Federica Passi\, un incontro/conversazione per il ciclo Writers in Conversation (6 novembre ore 17.00) e una Tavola rotonda sul tema della scrittura femminile\, traduzione ed editoria con Ilaria Benini di ADD\, Stefania Stafutti (Università di Torino) e altre traduttrici ed esperti di letteratura cinese a Ca’ Foscari (7 novembre ore 15.30). Infine Wang Anyi parteciperà a un incontro presso la Libreria Cafoscarina di S. Giobbe con letture tratte dalle sue opere (8 novembre ore 17.00). Gli eventi\, aperti al pubblico fino a esaurimento dei posti\, saranno in lingua cinese e italiana con interpretazione consecutiva.
URL:https://aisc-org.it/event/chinese-writers-residency-in-venice-meeting-wang-anyi/
CATEGORIES:Conferenze,Seminari
ATTACH;FMTTYPE=application/pdf:https://aisc-org.it/wp-content/uploads/2024/10/Wang-Anyi-4-8.11.2024-2-1.pdf
END:VEVENT
END:VCALENDAR