BEGIN:VCALENDAR
VERSION:2.0
PRODID:-//AISC - ECPv5.16.4.1//NONSGML v1.0//EN
CALSCALE:GREGORIAN
METHOD:PUBLISH
X-ORIGINAL-URL:https://aisc-org.it
X-WR-CALDESC:Events for AISC
REFRESH-INTERVAL;VALUE=DURATION:PT1H
X-Robots-Tag:noindex
X-PUBLISHED-TTL:PT1H
BEGIN:VTIMEZONE
TZID:Europe/Rome
BEGIN:DAYLIGHT
TZOFFSETFROM:+0100
TZOFFSETTO:+0200
TZNAME:CEST
DTSTART:20260329T010000
END:DAYLIGHT
BEGIN:STANDARD
TZOFFSETFROM:+0200
TZOFFSETTO:+0100
TZNAME:CET
DTSTART:20261025T010000
END:STANDARD
END:VTIMEZONE
BEGIN:VEVENT
DTSTART;TZID=Europe/Rome:20260130T100000
DTEND;TZID=Europe/Rome:20260130T173000
DTSTAMP:20260419T233428
CREATED:20251230T153404Z
LAST-MODIFIED:20251230T153542Z
UID:11922-1769767200-1769794200@aisc-org.it
SUMMARY:Presentazione del volume / Giornata di Studi - Media cinesi Fonti\, metodi\, analisi (M. Caschera\, N. Riva. Carocci\, 2025)
DESCRIPTION:Venerdì 30 gennaio il Dipartimento di Filologia e Critica Letteraria (DFCLAM) dell’Università di Siena ospiterà presso il Campus del Pionta di Arezzo una giornata di studi e la prima presentazione di “Media cinesi. Fonti\, metodi\, analisi” (Martina Caschera e Natalia Riva; Carocci\, 2025). \nPresentazione del volume\nCome si racconta la Cina attraverso i suoi media? Per rispondere a questa domanda\, il volume propone uno sguardo corale e al tempo stesso articolato sul complesso sistema comunicativo della Repubblica popolare cinese. Pensato per studenti\, docenti e ricercatori – sinologi e non – ma utile anche a chiunque desideri orientarsi nel vasto panorama mediale cinese\, offre uno strumento chiaro e aggiornato per capire come la Cina costruisce e diffonde la propria produzione culturale e discorsiva. Dalla stampa alla radio\, dal cinema alla televisione\, dalla pubblicità al fumetto fino a internet e ai social media\, ogni capitolo unisce una solida introduzione storica ad analisi che mettono a fuoco criticità\, sfide\, fonti\, metodi e casi di studio. Grazie al contributo dei maggiori esperti italiani del settore\, il libro delinea percorsi di ricerca autorevoli e stimolanti\, fornendo una guida essenziale per comprendere il ruolo dei media nella Cina moderna e contemporanea. \nLa giornata di studi e la pubblicazione del volume sono due attività realizzate da YZMT (Yidali Zhongguo meiti 意大利中国媒体) – MediumItaliaCina\, una rete di studiosi di diverse università italiane interessati allo studio della comunicazione e del sistema mediatico cinesi e ai rapporti (effettivi e potenziali) fra Italia e Cina in questi ambiti. \nPer info gianluigi.negro@unisi.it
URL:https://aisc-org.it/event/presentazione-del-volume-giornata-di-studi-media-cinesi-fonti-metodi-analisi-m-caschera-n-riva-carocci-2025/
CATEGORIES:Presentazioni libri,Seminari
ATTACH;FMTTYPE=image/jpeg:https://aisc-org.it/wp-content/uploads/2025/12/Gioranta-di-Studio-Media-Cinesi-Arezzo-30-gennaio-2026-locandina-largebis.jpg
END:VEVENT
BEGIN:VEVENT
DTSTART;TZID=Europe/Rome:20260210T090000
DTEND;TZID=Europe/Rome:20260210T133000
DTSTAMP:20260419T233428
CREATED:20260128T230002Z
LAST-MODIFIED:20260129T091843Z
UID:12005-1770714000-1770730200@aisc-org.it
SUMMARY:Tavola Rotonda 10/02/2026 From the Metaverse to 元宇宙
DESCRIPTION:Il prossimo 10 febbraio 2026 alle ore 9:00\, il Dipartimento di Scienze Sociali\, Università Federico II di Napoli (Vico Monte di Pietà\, 1\, Napoli) ospiterà la tavola rotonda “From the Metaverse to 元宇宙” finalizzata a discutere su immaginario\, storia e governance di mondi virtuali in Cina e inserita nel convegno di fine progetto PRIN 2022 From Netizens to Metazens. Narratives of Virtual Worlds and Civic Engagement in the Metaverse (link al programma completo). \nL’evento si terrà in lingua inglese \nPer informazioni gianluigi.negro@unisi.it \nBio delle relatrici e del relatore  \nZang Zhipeng è professore e supervisore di dottorato presso la Facoltà di Lettere e Filosofia dell’Università Tongji. È caporedattore della rivista Research on Digital Culture Industry. Inoltre\, è vicedirettore esecutivo del Comitato Speciale sul Metaverso Culturale della China Cultural Industry Association e direttore del Cultural and Creative Metaverse Research Institute di Shanghai. \nSai Wei è dottoranda (classe 2024) in Filosofia presso la Facoltà di Lettere e Filosofia dell’Università Tongji\, sotto la supervisione del Prof. Zang Zhipeng. La sua ricerca si concentra sull’estetica\, sull’arte VR e sugli studi sul metaverso\, esaminando come le tecnologie immersive rimodellino l’esperienza estetica\, la percezione e la partecipazione culturale negli ambienti virtuali. \nHou Jiaxi è ricercatrice presso il Center of Excellence for Automated Decision-Making and Society (ADM+S) della RMIT University. Etnografa interdisciplinare\, il suo lavoro esplora le relazioni costitutive tra le innovazioni digitali e le forme di marginalizzazione. \nYu Shan è ricercatrice presso  la Queensland University of Technology e la Facoltà di Lettere e Filosofia dell’Università Tongji. Insegna e svolge attività di ricerca sull’industrializzazione della cultura nel contesto delle tecnologie digitali emergenti.
URL:https://aisc-org.it/event/tavola-rotonda-10-02-2026-from-the-metaverse-to-%e5%85%83%e5%ae%87%e5%ae%99/
CATEGORIES:Seminari
ATTACH;FMTTYPE=image/jpeg:https://aisc-org.it/wp-content/uploads/2026/01/Final-event-12-febbraio-PRIN22.jpg
END:VEVENT
BEGIN:VEVENT
DTSTART;TZID=Europe/Rome:20260312T163000
DTEND;TZID=Europe/Rome:20260312T180000
DTSTAMP:20260419T233428
CREATED:20260226T184538Z
LAST-MODIFIED:20260226T185013Z
UID:12081-1773333000-1773338400@aisc-org.it
SUMMARY:Seminario di letteratura cinese
DESCRIPTION:Oriente e Occidente\, tradizione e modernità: il travaglio degli intellettuali cinesi in “Fortezza assediata” (1947) di Qian Zhongshu\, curato e tradotto da Maria Gottardo e Monica Morzenti \nInterverranno: Chiara Piccinini (Università Cattolica del Sacro Cuore) e Maria Gottardo (Università degli Studi di Bergamo) \nè possibile seguire il seminario da remoto chiedendo il link a istituto.confucio@unicatt.it
URL:https://aisc-org.it/event/seminario-di-letteratura-cinese/
LOCATION:Università Cattolica del Sacro Cuore di Milano\, Largo Gemelli 1\, Milano\, Italia
CATEGORIES:Seminari
ATTACH;FMTTYPE=application/pdf:https://aisc-org.it/wp-content/uploads/2026/02/3a-bozza-12.03.26-ORIENTE-E-OCCIDENTE-loca_.pdf
END:VEVENT
BEGIN:VEVENT
DTSTART;TZID=Europe/Rome:20260331T120000
DTEND;TZID=Europe/Rome:20260515T170000
DTSTAMP:20260419T233428
CREATED:20260228T084739Z
LAST-MODIFIED:20260228T085143Z
UID:12106-1774958400-1778864400@aisc-org.it
SUMMARY:Ciclo di seminari: Esperienze audiovisive nella Cina contemporanea
DESCRIPTION:Ciclo di seminari: Esperienze audiovisive nella Cina contemporanea\nL’Università di Siena\, sede di Arezzo\, ospiterà un ciclo di incontri dedicato all’esplorazione del panorama audiovisivo cinese contemporaneo. Il percorso\, organizzato nell’ambito dei corsi di studio in Lingue per la Comunicazione Interculturale e d’Impresa e Lingue per l’Impresa e lo Sviluppo\, offre un approfondimento critico su televisione\, cinema e documentario. \nL’iniziativa gode del patrocinio dell’Aula Confucio di Arezzo. \nProgramma degli incontri \n31 Marzo\, ore 12:30 \nValeria Varriano (Università Orientale\, Napoli) \nLa televisione in Cina: memoria\, identità e narrazioni collettive dalla nascita ai grandi serial  \n08 Aprile\, ore 8:30  \nChiara Lepri (Università Sapienza\, Roma)  \nIl cinema cinese post-riforme. Sguardi sugli sviluppi narrativi ed eroici della “melodia principale”  \n15 Maggio\, ore 11:00  \n Desireé Marianini (Università Sapienza\, Roma)  \nRaccontare il reale e la memoria individuale: la svolta del documentario cinese negli anni Novanta \nTutti gli incontri si terranno in Aula 19\, Palazzina Uomini – Campus del Pionta\, Arezzo.  Dipartimento di Filologia e Critica delle Letterature Antiche e Moderne DFCLAM. \nPer informazioni gianluigi.negro@unisi.it e ornella.denigris@unisi.it \n 
URL:https://aisc-org.it/event/ciclo-di-seminari-esperienze-audiovisive-nella-cina-contemporanea/
LOCATION:Università di Siena – Campus di Arezzo\, viale Luigi cittadini 33\, Arezzo
CATEGORIES:Seminari
ATTACH;FMTTYPE=image/jpeg:https://aisc-org.it/wp-content/uploads/2026/02/Ciclo-audiovisivo.jpg
END:VEVENT
BEGIN:VEVENT
DTSTART;TZID=Europe/Rome:20260408T083000
DTEND;TZID=Europe/Rome:20260408T100000
DTSTAMP:20260419T233428
CREATED:20260330T103030Z
LAST-MODIFIED:20260330T103159Z
UID:12173-1775637000-1775642400@aisc-org.it
SUMMARY:Il cinema cinese post-riforme. Sguardi sugli sviluppi narrativi ed eroici della “melodia principale” 08/04/2026 | 8:30 - Università di Siena Campus di Arezzo
DESCRIPTION:Secondo appuntamento dal Ciclo di seminari: Esperienze audiovisive nella Cina contemporanea. Università di Siena – Campus di Arezzo viale Luigi cittadini 33\, Arezzo\, 8 aprile 2026. Aula 19 (Palazzina Uomini) \n  \nIl cinema cinese post-riforme. Sguardi sugli sviluppi narrativi ed eroici della “melodia principale” \nIl contributo analizza le trasformazioni del cinema cinese dall’avvio delle riforme economiche fino alla contemporaneità\, concentrandosi in particolare sull’evoluzione della cosiddetta “melodia principale” (zhuxuanlü主旋律)\, categoria produttiva e discorsiva centrale nel panorama filmico della Repubblica Popolare. Attraverso l’esame di opere rappresentative\, l’intervento – connesso alla pubblicazione del volume Il cinema cinese contemporaneo. Generi\, narrazioni\, eroi (Carocci\, 2025) – indaga le strategie narrative e figurative mediante cui il racconto cinematografico rielabora la storia e l’immagine nazionale cinese e modella nuove forme di eroismo. \nChiara Lepri ha conseguito il dottorato in Civiltà dell’Asia e dell’Africa presso l’Università di Roma “La Sapienza” con una tesi sul cinema cinese di propaganda\, analizzato nei suoi aspetti storici\, istituzionali\, di linguaggi e narrazioni. I suoi interessi di ricerca si concentrano sul cinema cinese contemporaneo\, sulla cultura visuale\, e sui rapporti cinematografici tra Italia e Cina. Ha svolto periodi di formazione e ricerca a Pechino\, Shanghai\, Tokyo e Osaka\, oltre che presso l’Istituto Italiano di Cultura di New York. È parte del progetto Biographical Database of Italians in China (1866–1970) presso La Sapienza. Nel 2025 è risultata vincitrice nazionale del “Premio Buzzetti” dell’Associazione per l’Informatica Umanistica e la Cultura Digitale (AIUCD). \nPer informazioni gianluigi.negro@unisi.it \,  ornella@denigris.it 
URL:https://aisc-org.it/event/il-cinema-cinese-post-riforme-sguardi-sugli-sviluppi-narrativi-ed-eroici-della-melodia-principale-08-04-2026-830-universita-di-siena-campus-di-arezzo/
CATEGORIES:Seminari
ATTACH;FMTTYPE=image/jpeg:https://aisc-org.it/wp-content/uploads/2026/03/Locandina-Chiara-Lepri_page-0001.jpg
END:VEVENT
BEGIN:VEVENT
DTSTART;TZID=Europe/Rome:20260430T153000
DTEND;TZID=Europe/Rome:20260430T173000
DTSTAMP:20260419T233428
CREATED:20260327T191807Z
LAST-MODIFIED:20260327T191807Z
UID:12156-1777563000-1777570200@aisc-org.it
SUMMARY:Seminario di letteratura cinese - Un secolo di Cina con Yu Hua
DESCRIPTION:Il giorno 30 aprile 2026 a partire dalle ore 15:30 in aula C.011 in via Carducci 28/30\, la professoressa Silvia Pozzi terrà un seminario di letteratura cinese dal titolo “Un secolo di Cina con Yu Hua”. \nIl seminario è organizzato dall’Università Cattolica del Sacro Cuore di Milano e dall’Istituto Confucio. \nIl seminario piò essere seguito in streaming\, chi è interessato a partecipare può chiedere il link per collegarsi alla segreteria dell’Istituto Confucio dell’Università Cattolica del Sacro Cuore all’indirizzo e-mail istituto.confucio@unicatt.it \n  \n 
URL:https://aisc-org.it/event/seminario-di-letteratura-cinese-un-secolo-di-cina-con-yu-hua/
LOCATION:Università Cattolica del Sacro Cuore di Milano\, Largo Gemelli 1\, Milano\, Italia
CATEGORIES:Seminari
ATTACH;FMTTYPE=application/pdf:https://aisc-org.it/wp-content/uploads/2026/03/30.04.26-UN-SECOLO-DI-CINA-CON-YU-HUA-loca.pdf
END:VEVENT
END:VCALENDAR