BEGIN:VCALENDAR
VERSION:2.0
PRODID:-//AISC - ECPv5.16.4.1//NONSGML v1.0//EN
CALSCALE:GREGORIAN
METHOD:PUBLISH
X-WR-CALNAME:AISC
X-ORIGINAL-URL:https://aisc-org.it
X-WR-CALDESC:Events for AISC
REFRESH-INTERVAL;VALUE=DURATION:PT1H
X-Robots-Tag:noindex
X-PUBLISHED-TTL:PT1H
BEGIN:VTIMEZONE
TZID:Europe/Rome
BEGIN:DAYLIGHT
TZOFFSETFROM:+0100
TZOFFSETTO:+0200
TZNAME:CEST
DTSTART:20250330T010000
END:DAYLIGHT
BEGIN:STANDARD
TZOFFSETFROM:+0200
TZOFFSETTO:+0100
TZNAME:CET
DTSTART:20251026T010000
END:STANDARD
END:VTIMEZONE
BEGIN:VEVENT
DTSTART;TZID=Europe/Rome:20250402T101500
DTEND;TZID=Europe/Rome:20250402T120000
DTSTAMP:20260420T093507
CREATED:20250327T142543Z
LAST-MODIFIED:20250327T142543Z
UID:10379-1743588900-1743595200@aisc-org.it
SUMMARY:The Global Art/Fashion System: New Silk Roads across Italy\, China\, and the United States di Jenny Lin
DESCRIPTION:02 APRILE 2025\, ORE 10.15\, AULA 08 Palazzina Donne – Università di Siena Campus di Arezzo\n \nIl ciclo di seminari Simboli\, Arte e Storie: Esplorando la Comunicazione Visiva Cinese organizzato dall’Aula Confucio di Arezzo in collaborazione con Università di Siena approfondirà diversi aspetti della comunicazione visiva e culturale nella Cina moderna e contemporanea\, con l’obiettivo di comprendere come il Paese narri se stesso e il suo rapporto con il passato. I tre incontri\, condotti da esperti di rilievo nazionale e internazionale affronteranno tematiche specifiche: il legame tra arte e moda\, la storia del fumetto e il mercato dell’arte. \nIn occasione del primo dei tre incontri in calendario\, intitolato The Global Art/Fashion System: New Silk Roads across Italy\, China\, and the United States\, Jenny Lin (University of Southern California in Los Angeles) presenterà il suo progetto di ricerca omonimo\, The Global Art-Fashion System: New Silk Roads across Italy\, China\, and the United States\, un’indagine sugli scambi interculturali tra arte e moda nel contesto della globalizzazione. Attraverso una riflessione storica\, Lin illustrerà le collaborazioni contemporanee tra artisti\, designer\, aziende di moda e istituzioni culturali di Italia\, Cina e Stati Uniti. Metterà in luce come i legami transnazionali tra arte e moda reinterpretino le Vie della Seta\, antiche e moderne\, evidenziando progetti creativi che promuovono la comprensione reciproca e la collaborazione oltre i confini. \nDestinatari principali degli incontri sono gli studenti di Laurea triennale in Lingue e culture per l’impresa e lo sviluppo e Laurea magistrale in Lingue per l’Impresa e lo Sviluppo dell’Università di Siena – Sede di Arezzo. Tuttavia\, gli appuntamenti sono aperti anche al pubblico e a tutti coloro che desiderano approfondire questi argomenti. \nI prossimi due incontri in calendario: \n\n07 MAGGIO 2025\, ORE 10.15\, Logge del Grano (Arezzo)\, Martina Caschera\, Storia del Chinese visual pop: fumetti\, poster e animazioni tra XX e XXI secolo\n04 GIUGNO 2025\, ORE 10.15\, Logge del Grano (Arezzo)\, Filippo Salviati\, L’arte cinese e il mercato internazionale: tra collezionismo e politiche culturali
URL:https://aisc-org.it/event/the-global-art-fashion-system-new-silk-roads-across-italy-china-and-the-united-states-di-jenny-lin/
LOCATION:Università di Siena – Campus di Arezzo\, viale Luigi cittadini 33\, Arezzo
CATEGORIES:Seminari
ATTACH;FMTTYPE=image/png:https://aisc-org.it/wp-content/uploads/2025/03/seminario-2-aprile-25_locandina.png
ORGANIZER;CN="Ornella%20De%20Nigris":MAILTO:ornella.denigris@unisi.it
END:VEVENT
END:VCALENDAR