BEGIN:VCALENDAR
VERSION:2.0
PRODID:-//AISC - ECPv5.16.4.1//NONSGML v1.0//EN
CALSCALE:GREGORIAN
METHOD:PUBLISH
X-ORIGINAL-URL:https://aisc-org.it
X-WR-CALDESC:Events for AISC
REFRESH-INTERVAL;VALUE=DURATION:PT1H
X-Robots-Tag:noindex
X-PUBLISHED-TTL:PT1H
BEGIN:VTIMEZONE
TZID:Europe/Rome
BEGIN:DAYLIGHT
TZOFFSETFROM:+0100
TZOFFSETTO:+0200
TZNAME:CEST
DTSTART:20240331T010000
END:DAYLIGHT
BEGIN:STANDARD
TZOFFSETFROM:+0200
TZOFFSETTO:+0100
TZNAME:CET
DTSTART:20241027T010000
END:STANDARD
END:VTIMEZONE
BEGIN:VEVENT
DTSTART;TZID=Europe/Rome:20240509T090000
DTEND;TZID=Europe/Rome:20240509T110000
DTSTAMP:20260421T033931
CREATED:20240430T111117Z
LAST-MODIFIED:20240430T153536Z
UID:8683-1715245200-1715252400@aisc-org.it
SUMMARY:Matteo Ricci SJ e i cinesi alla corte dei Ming: un reciproco arricchimento culturale - Seminario di Chiara Piccinini
DESCRIPTION:09 Maggio 2024 – Aula Multimediale 2\, edificio Sperimentale 1 – ore 9.00\nSi terrà giovedi 9 maggio\, alle ore 09.00 nell’aula Multimediale 2\, il seminario “MATTEO RICCI SJ E I CINESI ALLA CORTE DEI MING:UN RECIPROCO ARRICCHIMENTO CULTURALE” \nMatteo Ricci SJ (1552-1610) è conosciuto in Cina per il grande contributo dato alla conoscenza della cultura europea classica in molti ambiti del sapere\, sia umanistico che scientifico. Allo stesso tempo\, il Gesuita maceratese e i suoi confratelli furono i primi a conquistare la fiducia della popolazione cinese dell’Impero Ming: essi riuscirono a stabilirsi in Cina in modo permanente dopo secoli di chiusura all’esterno da parte dell’Impero e impararono usi e costumi cinesi\, li descrissero agli intellettuali europei\, oltre a tradurre per la prima volta il pensiero e la filosofia confuciana in latino.\nIl seminario verterà sul resoconto del percorso intrapreso dai primi missionari gesuiti nell’Impero governato dalla dinastia Ming nella seconda metà del XVI secolo. Si farà riferimento alle conoscenze portate da Matteo Ricci e dai Gesuiti in Cina in quel periodo; verranno inoltre descritti i contenuti del pensiero e della cultura cinesi trasmessi in Europa per la prima volta dai missionari gesuiti\, acquisiti grazie al rapporto di conoscenza e amicizia con alcuni funzionari alla corte dei Ming tra la fine del XVI e l’inizio del XVII secolo. \nRelatore \nChiara PICCININI \nUniversità Cattolica del Sacro Cuore \n  \nIntroduce e modera \nVictoria BOGUSHEVSKAYA \nUniversità del Salento \n  \n  \nLocandina
URL:https://aisc-org.it/event/matteo-ricci-sj-e-i-cinesi-alla-corte-dei-ming-un-reciproco-arricchimento-culturale/
CATEGORIES:Conferenze,Seminari
ATTACH;FMTTYPE=application/pdf:https://aisc-org.it/wp-content/uploads/2024/04/Locandina_Piccinini_30_4_24.pdf
ORGANIZER;CN="Victoria%20Bogushevskaya":MAILTO:victoria.bogushevskaya@unisalento.it
END:VEVENT
END:VCALENDAR