BEGIN:VCALENDAR
VERSION:2.0
PRODID:-//AISC - ECPv5.16.4.1//NONSGML v1.0//EN
CALSCALE:GREGORIAN
METHOD:PUBLISH
X-WR-CALNAME:AISC
X-ORIGINAL-URL:https://aisc-org.it
X-WR-CALDESC:Events for AISC
REFRESH-INTERVAL;VALUE=DURATION:PT1H
X-Robots-Tag:noindex
X-PUBLISHED-TTL:PT1H
BEGIN:VTIMEZONE
TZID:Europe/Rome
BEGIN:DAYLIGHT
TZOFFSETFROM:+0100
TZOFFSETTO:+0200
TZNAME:CEST
DTSTART:20240331T010000
END:DAYLIGHT
BEGIN:STANDARD
TZOFFSETFROM:+0200
TZOFFSETTO:+0100
TZNAME:CET
DTSTART:20241027T010000
END:STANDARD
END:VTIMEZONE
BEGIN:VEVENT
DTSTART;TZID=Europe/Rome:20240410T100000
DTEND;TZID=Europe/Rome:20240410T100000
DTSTAMP:20260421T052902
CREATED:20240409T114423Z
LAST-MODIFIED:20240515T172112Z
UID:8703-1712743200-1712743200@aisc-org.it
SUMMARY:Gli studi di Global History nella Repubblica Popolare Cinese - Seminario di Elisa Giunipero
DESCRIPTION:Locandina  \nGLI STUDI DI GLOBAL HISTORY  \nNELLA REPUBBLICA POPOLARE CINESE \nRelatore \nElisa Maria GIUNIPERO \nUniversità Cattolica del Sacro Cuore \nIntroduce e modera \nVictoria BOGUSHEVSKAYA \nUniversità del Salento \n  \nMercoledì 10 aprile 2024 \nAula Pianterreno\, Olivetani  \nOre 10.00 \nViale San Nicola – LECCE \nModalità di partecipazione: in presenza \n  \n  \n  \n  \n 
URL:https://aisc-org.it/event/gli-studi-di-global-history-nella-repubblica-popolare-cinese-seminario-di-elisa-giunipero/
CATEGORIES:Conferenze,Seminari
END:VEVENT
END:VCALENDAR