BEGIN:VCALENDAR
VERSION:2.0
PRODID:-//AISC - ECPv5.16.4.1//NONSGML v1.0//EN
CALSCALE:GREGORIAN
METHOD:PUBLISH
X-ORIGINAL-URL:https://aisc-org.it
X-WR-CALDESC:Events for AISC
REFRESH-INTERVAL;VALUE=DURATION:PT1H
X-Robots-Tag:noindex
X-PUBLISHED-TTL:PT1H
BEGIN:VTIMEZONE
TZID:Europe/Rome
BEGIN:DAYLIGHT
TZOFFSETFROM:+0100
TZOFFSETTO:+0200
TZNAME:CEST
DTSTART:20260329T010000
END:DAYLIGHT
BEGIN:STANDARD
TZOFFSETFROM:+0200
TZOFFSETTO:+0100
TZNAME:CET
DTSTART:20261025T010000
END:STANDARD
END:VTIMEZONE
BEGIN:VEVENT
DTSTART;TZID=Europe/Rome:20260325T113000
DTEND;TZID=Europe/Rome:20260325T123000
DTSTAMP:20260421T180902
CREATED:20260227T183458Z
LAST-MODIFIED:20260227T183458Z
UID:12092-1774438200-1774441800@aisc-org.it
SUMMARY:HSK 3.0. Le novità e come prepararsi al nuovo esame
DESCRIPTION:A partire da luglio 2026\, entrerà in vigore in tutto il mondo la nuova versione della certificazione della lingua cinese\, l‘HSK 3.0. Questo cambiamento avrà un impatto significativo su diversi ambiti\, come l’iscrizione ai corsi di studio in Cina\, la candidatura per borse di studio\, nonché le opportunità di stage e occupazione legate alle competenze linguistiche. \nPerché viene introdotto l’HSK 3.0? In cosa si differenzia dall’attuale versione HSK 2.0 e quali sono i suoi principali punti di forza? Quali sono le strategie più efficaci per prepararsi a sostenere l’esame? \nLa dott.ssa Sun Lin\, responsabile della sede italiana della Zhejiang Normal University e del Chinese Learning and Testing Center di Firenze\, analizzerà e spiegherà in dettaglio questi temi\, durante un incontro aperto sia agli studenti e alle studentesse deicorsi di laurea in lingue dell’Università di Siena-Arezzo\, che al pubblico esterno. \nL’evento è organizzato dall’Aula Confucio di Arezzo\, nell’ambito dei corsi di studio LCII e LIMS dell’Università di Siena-Sede Arezzo ed è gratuito e aperto a tutti. \nMercoledì 25 marzo 2026 \nore 11.30-12.30 \nAula 17 (Campus del Pionta\, Arezzo)
URL:https://aisc-org.it/event/hsk-3-0-le-novita-e-come-prepararsi-al-nuovo-esame/
LOCATION:Università di Siena – Campus di Arezzo\, viale Luigi cittadini 33\, Arezzo
CATEGORIES:Conferenze
ATTACH;FMTTYPE=image/jpeg:https://aisc-org.it/wp-content/uploads/2026/02/Sun-Lin_Locandina-scaled.jpg
ORGANIZER;CN="Ornella%20De%20Nigris":MAILTO:ornella.denigris@unisi.it
END:VEVENT
END:VCALENDAR