BEGIN:VCALENDAR
VERSION:2.0
PRODID:-//AISC - ECPv5.16.4.1//NONSGML v1.0//EN
CALSCALE:GREGORIAN
METHOD:PUBLISH
X-ORIGINAL-URL:https://aisc-org.it
X-WR-CALDESC:Events for AISC
REFRESH-INTERVAL;VALUE=DURATION:PT1H
X-Robots-Tag:noindex
X-PUBLISHED-TTL:PT1H
BEGIN:VTIMEZONE
TZID:Europe/Rome
BEGIN:DAYLIGHT
TZOFFSETFROM:+0100
TZOFFSETTO:+0200
TZNAME:CEST
DTSTART:20250330T010000
END:DAYLIGHT
BEGIN:STANDARD
TZOFFSETFROM:+0200
TZOFFSETTO:+0100
TZNAME:CET
DTSTART:20251026T010000
END:STANDARD
END:VTIMEZONE
BEGIN:VEVENT
DTSTART;TZID=Europe/Rome:20251218T150000
DTEND;TZID=Europe/Rome:20251219T123000
DTSTAMP:20260422T182719
CREATED:20251215T212832Z
LAST-MODIFIED:20251215T212832Z
UID:11883-1766070000-1766147400@aisc-org.it
SUMMARY:18-19 December\, Symposium of International Database Projects: Digitising the Links of Historical\, Cultural\, and Commercial Exchanges between East and West
DESCRIPTION:PRIN2022 MARE II Conference 18 19 Dec 2025_compressed \nSymposium of International Database Projects: Digitising the Links of Historical\, Cultural\, and Commercial Exchanges between East and West \nConvegno in lingua inglese | 18–19 dicembre 2025 \nOrari \n– 18 dicembre: 15:00–18:30\, Auditorium Pettinato (Plesso D\, Università degli Studi di Enna “Kore”\, Dipartimento di Studi Classici\, Linguistici e della Formazione) \n– 19 dicembre: 9:00–12:30\, Aula 409 (Plesso D\, Università degli Studi di Enna “Kore”\, Dipartimento di Studi Classici\, Linguistici e della Formazione) \nIl convegno\, articolato in due giornate\, si inserisce nel progetto di ricerca nazionale PRIN 2022PXTYCL “M.A.R.E.: Manuscripts and Books from Asia Reaching Europe. A semantically enhanced digital library mapping Asian books circulation along the Silk Maritime Routes”\, coordinato dall’Università degli Studi di Enna “Kore” in collaborazione con l’Università di Pisa e l’Università degli Studi di Salerno. \nIl Symposium riunisce studiosi nazionali e internazionali responsabili di progetti digitali dedicati a banche dati in lingua principalmente cinese e latina\, alla disseminazione online di fonti relative alle interazioni tra Cina ed Europa\, nonché esperti di tecnologie OCR. L’iniziativa mira a promuovere collaborazioni tra l’innovazione tecnologica dell’informatica e la ricerca storico-filologica nell’ambito degli studi umanistici\, aprendo a una riflessione più ampia sulle sfide future e sulle potenzialità nello sviluppo delle lingue orientali e nella creazione di hub digitali interconnessi. Per partecipare da remoto\, il link zoom per i due giorni è https://zoom.us/j/99868503549
URL:https://aisc-org.it/event/18-19-december-symposium-of-international-database-projects-digitising-the-links-of-historical-cultural-and-commercial-exchanges-between-east-and-west/
LOCATION:Università degli Studi di Enna “Kore” \, Dipartimento di Studi Classici\, Linguistici e della Formazione\, Enna
CATEGORIES:Conferenze,Convegno
ATTACH;FMTTYPE=image/png:https://aisc-org.it/wp-content/uploads/2025/12/immagine.png
END:VEVENT
END:VCALENDAR