BEGIN:VCALENDAR
VERSION:2.0
PRODID:-//AISC - ECPv5.16.4.1//NONSGML v1.0//EN
CALSCALE:GREGORIAN
METHOD:PUBLISH
X-ORIGINAL-URL:https://aisc-org.it
X-WR-CALDESC:Events for AISC
REFRESH-INTERVAL;VALUE=DURATION:PT1H
X-Robots-Tag:noindex
X-PUBLISHED-TTL:PT1H
BEGIN:VTIMEZONE
TZID:Europe/Rome
BEGIN:DAYLIGHT
TZOFFSETFROM:+0100
TZOFFSETTO:+0200
TZNAME:CEST
DTSTART:20240331T010000
END:DAYLIGHT
BEGIN:STANDARD
TZOFFSETFROM:+0200
TZOFFSETTO:+0100
TZNAME:CET
DTSTART:20241027T010000
END:STANDARD
END:VTIMEZONE
BEGIN:VEVENT
DTSTART;TZID=Europe/Rome:20241213T123000
DTEND;TZID=Europe/Rome:20241213T133000
DTSTAMP:20260424T224035
CREATED:20241126T165539Z
LAST-MODIFIED:20241130T032747Z
UID:9888-1734093000-1734096600@aisc-org.it
SUMMARY:Lezione Online: Siate presenti! Breve introduzione alla storia delle pratiche meditative buddhiste in Cina
DESCRIPTION:Lezione a cura di Laura Lettere \n13 dicembre 2024\, 12.20 \nUniversità di Parma\, Aula E e online \n 
URL:https://aisc-org.it/event/lezione-online-siate-presenti-breve-introduzione-alla-storia-delle-pratiche-meditative-buddhiste-in-cina/
LOCATION:Aula E\, via San Michele 9\, Parma
CATEGORIES:Conferenze
ATTACH;FMTTYPE=image/png:https://aisc-org.it/wp-content/uploads/2024/11/Evento-Laura-Lettere-finale-1.png
END:VEVENT
END:VCALENDAR