BEGIN:VCALENDAR
VERSION:2.0
PRODID:-//AISC - ECPv5.16.4.1//NONSGML v1.0//EN
CALSCALE:GREGORIAN
METHOD:PUBLISH
X-WR-CALNAME:AISC
X-ORIGINAL-URL:https://aisc-org.it
X-WR-CALDESC:Events for AISC
REFRESH-INTERVAL;VALUE=DURATION:PT1H
X-Robots-Tag:noindex
X-PUBLISHED-TTL:PT1H
BEGIN:VTIMEZONE
TZID:Europe/Rome
BEGIN:DAYLIGHT
TZOFFSETFROM:+0100
TZOFFSETTO:+0200
TZNAME:CEST
DTSTART:20240331T010000
END:DAYLIGHT
BEGIN:STANDARD
TZOFFSETFROM:+0200
TZOFFSETTO:+0100
TZNAME:CET
DTSTART:20241027T010000
END:STANDARD
END:VTIMEZONE
BEGIN:VEVENT
DTSTART;TZID=Europe/Rome:20241129T103000
DTEND;TZID=Europe/Rome:20241129T123000
DTSTAMP:20260424T223426
CREATED:20241028T205903Z
LAST-MODIFIED:20241102T090749Z
UID:9631-1732876200-1732883400@aisc-org.it
SUMMARY:Città invisibili\, selve oscure e burattini di legno: la recezione della letteratura italiana in Cina nel XX secolo
DESCRIPTION:Il 29 novembre\, presso l’Università di Milano-Bicocca\, Alessandra Brezzi terrà una conferenza sulla letteratura italiana nella Cina del XX secolo. \nL’incontro è rivolto agli studenti di lingua cinese del Corso di laurea in Comunicazione interculturale e a tutti gli interessati. \nPer informazioni: aulaconfucio@unimib.it
URL:https://aisc-org.it/event/citta-invisibili-selve-oscure-e-burattini-di-legno-la-recezione-della-letteratura-italiana-in-cina-nel-xx-secolo/
LOCATION:Università di Milano-Bicocca\, Edificio U6\, aula 21\, piazza dell'Ateneo Nuovo\, 1\, Milano
CATEGORIES:Conferenze
END:VEVENT
END:VCALENDAR