BEGIN:VCALENDAR
VERSION:2.0
PRODID:-//AISC - ECPv5.16.4.1//NONSGML v1.0//EN
CALSCALE:GREGORIAN
METHOD:PUBLISH
X-ORIGINAL-URL:https://aisc-org.it
X-WR-CALDESC:Events for AISC
REFRESH-INTERVAL;VALUE=DURATION:PT1H
X-Robots-Tag:noindex
X-PUBLISHED-TTL:PT1H
BEGIN:VTIMEZONE
TZID:Europe/Rome
BEGIN:DAYLIGHT
TZOFFSETFROM:+0100
TZOFFSETTO:+0200
TZNAME:CEST
DTSTART:20250330T010000
END:DAYLIGHT
BEGIN:STANDARD
TZOFFSETFROM:+0200
TZOFFSETTO:+0100
TZNAME:CET
DTSTART:20251026T010000
END:STANDARD
END:VTIMEZONE
BEGIN:VEVENT
DTSTART;TZID=Europe/Rome:20250505T150000
DTEND;TZID=Europe/Rome:20250505T163000
DTSTAMP:20260424T112005
CREATED:20250423T160924Z
LAST-MODIFIED:20250423T181612Z
UID:10534-1746457200-1746462600@aisc-org.it
SUMMARY:Shao Jiang 邵江 (Oxford School of Global and Area Studies at Oxford University): "Citizen Publications in P.R. China from 1949-1997"
DESCRIPTION:SHAO JIANG 5 Maggio 2025
URL:https://aisc-org.it/event/shao-jiang-%e9%82%b5%e6%b1%9f-oxford-school-of-global-and-area-studies-at-oxford-university-citizen-publications-in-p-r-china-from-1949-1997/
LOCATION:Piazza Morlacchi 30\, Perugia\, Piazza Morlacchi 30\, Perugia\, Italy
CATEGORIES:Conferenze
ATTACH;FMTTYPE=image/png:https://aisc-org.it/wp-content/uploads/2025/04/Screenshot-2025-04-23-alle-20.15.12.png
ORGANIZER;CN="Ester%20Bianchi":MAILTO:ester.bianchi@unipg.it
END:VEVENT
BEGIN:VEVENT
DTSTART;TZID=Europe/Rome:20250506T154500
DTEND;TZID=Europe/Rome:20250506T171500
DTSTAMP:20260424T112005
CREATED:20250416T102728Z
LAST-MODIFIED:20250416T102728Z
UID:10492-1746546300-1746551700@aisc-org.it
SUMMARY:Ma Jian a Writers in Conversation
DESCRIPTION:Siamo liete di annunciare l’incontro con lo scrittore Ma Jian che si terrà all’Università Ca’ Foscari Venezia il 6 maggio 2025 alle ore 15.45 presso l’aula 0G di S. Basilio Tesa 5\, per il ciclo Writers in Conversation del Festival Incroci di Civiltà. Converseranno con lui Nicoletta Pesaro e Martina Codeluppi.
URL:https://aisc-org.it/event/ma-jian-a-writers-in-conversation/
CATEGORIES:Conferenze
ATTACH;FMTTYPE=image/jpeg:https://aisc-org.it/wp-content/uploads/2025/04/WIC-Ma-Jian-6.5.2025.jpg
END:VEVENT
BEGIN:VEVENT
DTSTART;TZID=Europe/Rome:20250507T101500
DTEND;TZID=Europe/Rome:20250507T120000
DTSTAMP:20260424T112005
CREATED:20250423T132357Z
LAST-MODIFIED:20250528T050434Z
UID:10529-1746612900-1746619200@aisc-org.it
SUMMARY:Storia del Chinese visual pop Fumetti\, poster e animazioni tra il XX e XXI secolo di Martina Caschera
DESCRIPTION:07 MAGGIO 2025\, ORE 10.15\, Logge del Grano – Università di Siena Campus di Arezzo\n \nProsegue il ciclo di seminari Simboli\, Arte e Storie: Esplorando la Comunicazione Visiva Cinese organizzato dall’Aula Confucio di Arezzo in collaborazione con Università di Siena che approfondisce diversi aspetti della comunicazione visiva e culturale nella Cina moderna e contemporanea\, con l’obiettivo di comprendere come il Paese narri se stesso e il suo rapporto con il passato. I tre incontri\, condotti da esperti di rilievo nazionale e internazionale affrontano tematiche specifiche: il legame tra arte e moda\, la storia del fumetto e il mercato dell’arte. \nIl secondo dei tre incontri in calendario\, intitolato Storia del Chinese visual pop. Fumetti\, poster e animazioni tra il XX e XXI secolo sarà tenuto da Martina Caschera (Università di Bergamo).  \nNella Shanghai degli anni Venti\, una metropoli repubblicana semicoloniale\, lo sguardo domina tutti gli altri sensi: le riviste illustrate sono infestate da immagini di ogni tipo (illustrazioni\, fotografie\, collage\, manhua\, lianhuan manhua) si moltiplicano ogni giorno e\, tra bancarelle precarie e itineranti\, si rintanano adulti e bambini per dedicare qualche minuto all’ultimo lianhuanhua 连环画. Mentre lo sguardo si nutre di nuovi prodotti\, i consumatori di questa cultura pop visuale vivono ogni giorno una Cina sconvolta da dissidi interni ed un rampante colonialismo. Questo seminario intende dare un’idea di come i media legati a questo sguardo – che desidera libertà\, bellezza e storie – si evolvano da questi ruggenti anni 1920 alla fine degli anni Settanta e di quanto i percorsi siano legati in una rete di influenze e corrispondenze. Verranno analizzate le prime tappe dell’evoluzione di manhua 漫画 e lianhuanhua 连环画 (anni Venti)\, alcune tendenze dominanti e alternative della creazione e disseminazione di questi (anni Trenta)\, e si vedrà come si sono articolati i tentativi di appropriazione e monopolizzazione dello sguardo (anni Quaranta\, Cinquanta e Settanta) che in questi media\, ai quali si aggiunge il poster di propaganda xuanchuanhua 宣传画\, si è formato. \nDestinatari principali degli incontri sono gli studenti di Laurea triennale in Lingue e culture per l’impresa e lo sviluppo e Laurea magistrale in Lingue per l’Impresa e lo Sviluppo dell’Università di Siena – Sede di Arezzo. Tuttavia\, gli appuntamenti sono aperti anche al pubblico e a tutti coloro che desiderano approfondire questi argomenti.
URL:https://aisc-org.it/event/storia-del-chinese-visual-pop-fumetti-poster-e-animazioni-tra-il-xx-e-xxi-secolo-di-martina-caschera/
CATEGORIES:Conferenze
ATTACH;FMTTYPE=image/png:https://aisc-org.it/wp-content/uploads/2025/05/seminario-4-giugno-25-1.png
END:VEVENT
BEGIN:VEVENT
DTSTART;TZID=Europe/Rome:20250513T103000
DTEND;TZID=Europe/Rome:20250513T123000
DTSTAMP:20260424T112005
CREATED:20250423T162115Z
LAST-MODIFIED:20250423T181442Z
UID:10541-1747132200-1747139400@aisc-org.it
SUMMARY:“From One Buddhist Temple to Many Buddhist Institutions: Interdisciplinarity\, Multisited Patchwork Ethnography\, and Fieldwork in Today’s China” (Amandine Péronnet\, CEIB\, IFRAE-Inalco and IrAsia-Aix-Marseille Université)
DESCRIPTION:Péronnet 13 Maggio 2025 \nPer seguire on-line\, rivolgersi all’organizzatrice (ester.bianchi@unipg.it)
URL:https://aisc-org.it/event/from-one-buddhist-temple-to-many-buddhist-institutions-interdisciplinarity-multisited-patchwork-ethnography-and-fieldwork-in-todays-china-amandine-peronnet-ceib-ifrae/
LOCATION:Piazza Morlacchi 30\, Perugia\, Piazza Morlacchi 30\, Perugia\, Italy
CATEGORIES:Conferenze
ATTACH;FMTTYPE=image/png:https://aisc-org.it/wp-content/uploads/2025/04/Screenshot-2025-04-23-alle-20.13.58.png
ORGANIZER;CN="Ester%20Bianchi":MAILTO:ester.bianchi@unipg.it
END:VEVENT
BEGIN:VEVENT
DTSTART;TZID=Europe/Rome:20250513T140000
DTEND;TZID=Europe/Rome:20250513T160000
DTSTAMP:20260424T112005
CREATED:20250423T165024Z
LAST-MODIFIED:20250424T174030Z
UID:10554-1747144800-1747152000@aisc-org.it
SUMMARY:The Chinese Translation of the Bible. Methodological Perspectives” (Raissa De Gruttola\, Università Ca’ Foscari di Venezia)
DESCRIPTION:DE GRUTTOLA 13 Maggio 2025 \nPer seguire on-line\, rivolgersi all’organizzatrice (ester.bianchi@unipg.it)
URL:https://aisc-org.it/event/the-chinese-translation-of-the-bible-methodological-perspectives-raissa-de-gruttola-universita-ca-foscari-di-venezia/
LOCATION:Palazzo Florenzi\, Piazza Ermini\, Perugia
CATEGORIES:Conferenze
ATTACH;FMTTYPE=image/png:https://aisc-org.it/wp-content/uploads/2025/04/Screenshot-2025-04-24-alle-19.36.46.png
ORGANIZER;CN="Ester%20Bianchi":MAILTO:ester.bianchi@unipg.it
END:VEVENT
BEGIN:VEVENT
DTSTART;TZID=Europe/Rome:20250526T103000
DTEND;TZID=Europe/Rome:20250526T123000
DTSTAMP:20260424T112005
CREATED:20250423T165259Z
LAST-MODIFIED:20250423T180835Z
UID:10557-1748255400-1748262600@aisc-org.it
SUMMARY:“China\, the Global South\, and Sovereign Internationalism” (Bart Dessein\, Ghent University)
DESCRIPTION:DESSEIN 26 Maggio 2025 \nPer seguire on-line\, rivolgersi all’organizzatrice (ester.bianchi@unipg.it)
URL:https://aisc-org.it/event/china-the-global-south-and-sovereign-internationalism-bart-dessein-ghent-university/
LOCATION:Piazza Morlacchi 30\, Perugia\, Piazza Morlacchi 30\, Perugia\, Italy
CATEGORIES:Conferenze
ATTACH;FMTTYPE=image/png:https://aisc-org.it/wp-content/uploads/2025/04/Screenshot-2025-04-23-alle-20.07.02.png
ORGANIZER;CN="Ester%20Bianchi":MAILTO:ester.bianchi@unipg.it
END:VEVENT
BEGIN:VEVENT
DTSTART;TZID=Europe/Rome:20250526T140000
DTEND;TZID=Europe/Rome:20250526T160000
DTSTAMP:20260424T112005
CREATED:20250423T175552Z
LAST-MODIFIED:20250424T173520Z
UID:10567-1748268000-1748275200@aisc-org.it
SUMMARY:"The study of Buddhist Material Culture: Body” (Ann Heirman\, Ghent University)
DESCRIPTION:HEIRMAN 26 Maggio 2025 \n  \nPer seguire on-line\, rivolgersi all’organizzatrice (ester.bianchi@unipg.it)
URL:https://aisc-org.it/event/the-study-of-buddhist-material-culture-animals-ann-heirman-ghent-university/
LOCATION:Piazza Morlacchi 30\, Perugia\, Piazza Morlacchi 30\, Perugia\, Italy
CATEGORIES:Conferenze
ATTACH;FMTTYPE=image/png:https://aisc-org.it/wp-content/uploads/2025/04/Screenshot-2025-04-23-alle-20.04.46.png
ORGANIZER;CN="Ester%20Bianchi":MAILTO:ester.bianchi@unipg.it
END:VEVENT
BEGIN:VEVENT
DTSTART;TZID=Europe/Rome:20250527T103000
DTEND;TZID=Europe/Rome:20250527T123000
DTSTAMP:20260424T112005
CREATED:20250423T182405Z
LAST-MODIFIED:20250424T172713Z
UID:10582-1748341800-1748349000@aisc-org.it
SUMMARY:“Buddhist Externalism: Buddhist Theories on Matter and Space” (Serena Saccone\, Università di Napoli L’Orientale)
DESCRIPTION:SACCONE 27 Maggio 2025 \nPer seguire on-line\, rivolgersi all’organizzatrice (ester.bianchi@unipg.it)
URL:https://aisc-org.it/event/buddhist-externalism-buddhist-theories-on-matter-and-space-serena-saccone-universita-di-napoli-lorientale/
LOCATION:Via Aquilone 8 Perugia
CATEGORIES:Conferenze
ATTACH;FMTTYPE=image/png:https://aisc-org.it/wp-content/uploads/2025/04/Screenshot-2025-04-23-alle-20.22.24.png
ORGANIZER;CN="Ester%20Bianchi":MAILTO:ester.bianchi@unipg.it
END:VEVENT
BEGIN:VEVENT
DTSTART;TZID=Europe/Rome:20250527T140000
DTEND;TZID=Europe/Rome:20250527T160000
DTSTAMP:20260424T112005
CREATED:20250424T173141Z
LAST-MODIFIED:20250424T173339Z
UID:10597-1748354400-1748361600@aisc-org.it
SUMMARY:"The Study of Buddhist Material Culture: Animals" (Ann Heirman\, Ghent University)
DESCRIPTION:HEIRMAN 27 Maggio 2025 \nPer seguire online\, contattare l’organizzatrice (ester.bianchi@unipg.it)
URL:https://aisc-org.it/event/the-study-of-buddhist-material-culture-animals-ann-heirman-ghent-university-2/
LOCATION:Via Aquilone 8\, Perugia
CATEGORIES:Conferenze
ATTACH;FMTTYPE=image/png:https://aisc-org.it/wp-content/uploads/2025/04/Screenshot-2025-04-24-alle-19.28.05.png
END:VEVENT
END:VCALENDAR