BEGIN:VCALENDAR
VERSION:2.0
PRODID:-//AISC - ECPv5.16.4.1//NONSGML v1.0//EN
CALSCALE:GREGORIAN
METHOD:PUBLISH
X-WR-CALNAME:AISC
X-ORIGINAL-URL:https://aisc-org.it
X-WR-CALDESC:Events for AISC
REFRESH-INTERVAL;VALUE=DURATION:PT1H
X-Robots-Tag:noindex
X-PUBLISHED-TTL:PT1H
BEGIN:VTIMEZONE
TZID:Europe/Rome
BEGIN:DAYLIGHT
TZOFFSETFROM:+0100
TZOFFSETTO:+0200
TZNAME:CEST
DTSTART:20250330T010000
END:DAYLIGHT
BEGIN:STANDARD
TZOFFSETFROM:+0200
TZOFFSETTO:+0100
TZNAME:CET
DTSTART:20251026T010000
END:STANDARD
END:VTIMEZONE
BEGIN:VEVENT
DTSTART;TZID=Europe/Rome:20250303T080000
DTEND;TZID=Europe/Rome:20250415T170000
DTSTAMP:20260424T130044
CREATED:20250227T095659Z
LAST-MODIFIED:20250227T095659Z
UID:10192-1740988800-1744736400@aisc-org.it
SUMMARY:Fotogrammi cinesi\, primavera 2025
DESCRIPTION:La rassegna di eventi dedicati alla cultura\, alla letteratura e alla storia cinese presso l’Università di Bologna\, per il semestre primaverile 2025.
URL:https://aisc-org.it/event/fotogrammi-cinesi-primavera-2025/
LOCATION:Università di Bologna (Dipartimento di Lingue\, Letterature e Culture Moderne)\, Via Cartoleria\, 5\, Bologna\, Italia
CATEGORIES:Conferenze
ATTACH;FMTTYPE=image/jpeg:https://aisc-org.it/wp-content/uploads/2025/02/Fotogrammi-cinese-merged-scaled.jpg
END:VEVENT
BEGIN:VEVENT
DTSTART;TZID=Europe/Rome:20250407T130000
DTEND;TZID=Europe/Rome:20250407T150000
DTSTAMP:20260424T130044
CREATED:20250330T090614Z
LAST-MODIFIED:20250330T090614Z
UID:10427-1744030800-1744038000@aisc-org.it
SUMMARY:Conferenza di Martina Codeluppi - Antropocene e narrativa speculativa: il caso della "cli-fi" cinese
DESCRIPTION:
URL:https://aisc-org.it/event/conferenza-di-martina-codeluppi-antropocene-e-narrativa-speculativa-il-caso-della-cli-fi-cinese/
LOCATION:Università di Bologna (Dipartimento di Lingue\, Letterature e Culture Moderne)\, Via Cartoleria\, 5\, Bologna\, Italia
CATEGORIES:Conferenze
ATTACH;FMTTYPE=image/jpeg:https://aisc-org.it/wp-content/uploads/2025/03/Conferenza-Codeluppi_page-0001.jpg
END:VEVENT
BEGIN:VEVENT
DTSTART;TZID=Europe/Rome:20250408T170000
DTEND;TZID=Europe/Rome:20250408T190000
DTSTAMP:20260424T130044
CREATED:20250330T091115Z
LAST-MODIFIED:20250330T091115Z
UID:10430-1744131600-1744138800@aisc-org.it
SUMMARY:Conferenza di Federico Picerni - Ai Qing: un viaggio poetico nel Novecento cinese
DESCRIPTION:
URL:https://aisc-org.it/event/conferenza-di-federico-picerni-ai-qing-un-viaggio-poetico-nel-novecento-cinese/
LOCATION:Università di Bologna (Dipartimento di Interpretazione e Traduzione)\, via Corridoni 20\, Rimini\, Italia
CATEGORIES:Conferenze
ATTACH;FMTTYPE=image/jpeg:https://aisc-org.it/wp-content/uploads/2025/03/AiQing_locandina_page-0001.jpg
END:VEVENT
BEGIN:VEVENT
DTSTART;TZID=Europe/Rome:20250411T140000
DTEND;TZID=Europe/Rome:20250411T170000
DTSTAMP:20260424T130044
CREATED:20250326T092648Z
LAST-MODIFIED:20250326T092648Z
UID:10372-1744380000-1744390800@aisc-org.it
SUMMARY:La fantascienza nella letteratura araba\, cinese e giapponese
DESCRIPTION:Venerdì 11 aprile\, all’Università degli Studi di Milano-Bicocca\, si terrà la seconda edizione della giornata “Dialoghi Interculturali”\, promossa dal Corso di Laurea in Comunicazione Interculturale\, rivolta agli studenti del Corso di Laurea e aperta a tutti gli interessati. \nL’iniziativa è a cura di Giacomo Calorio\, Ali Faraj e Alessandra Pezza ed è promossa al fine di mettere a confronto le tre anime del Corso (arabo\, cinese e giapponese) in un più vasto orizzonte interculturale. \nIl tema di quest’anno sarà: “La fantascienza nella letteratura araba\, cinese e giapponese” \nProgramma:\n\n14:00 – Saluti di apertura\n14:10 – Introduzione a cura di Davide Monopoli e Silvia Casolari (Mufant)\n14:30 – Ada Barbaro (Università di Roma “La Sapienza”) || Le “forme” in cui prende forma la distopia egiziana. Il Potere di togliere il gusto\, il Potere di sottrarre il tempo: profili umani del (senza) tempo che verrà?\n15:15 – Ilaria Benini (ADD Editore) || Corpi\, identità e futuri alternativi: una genealogia della fantascienza queer di Taiwan\, da Chi Ta-wei a Lin Hsin-hui\n16:00 – Anna Specchio (Università di Torino) || I pianeti delle donne. SF giapponese da Suzuki Izumi a Ono Miyuki\n16:45 – Dibattito con moderazione a cura di Davide Monopoli e Silvia Casolari\n\nL’incontro si terrà presso l’aula 16\, Edificio U9 – Viale dell’innovazione 10\, Milano
URL:https://aisc-org.it/event/la-fantascienza-nella-letteratura-araba-cinese-e-giapponese/
LOCATION:Università di MIlano Bicocca\, piazza dell'Ateneo Nuovo\, 1\, Milano\, MI\, 20126\, Italia
CATEGORIES:Conferenze
ATTACH;FMTTYPE=application/pdf:https://aisc-org.it/wp-content/uploads/2025/03/Dialoghi_Interculturali_2.pdf
END:VEVENT
BEGIN:VEVENT
DTSTART;TZID=Europe/Rome:20250415T143000
DTEND;TZID=Europe/Rome:20250415T163000
DTSTAMP:20260424T130044
CREATED:20250219T134654Z
LAST-MODIFIED:20250408T203611Z
UID:10147-1744727400-1744734600@aisc-org.it
SUMMARY:Conferenza di Alessandra Lavagnino: 'Tradurre il Tianxia' | Università degli studi di Cagliari\, 15 aprile
DESCRIPTION:Tradurre il Tianxia – ‘Sotto il cielo’\nMartedì 15 aprile 2025\, ore 14:50\nAula CM11\, Campus Aresu\, Università degli studi di Cagliari \n \nIl concetto di tianxia\, elaborato in Cina oltre tremila anni fa durante la dinastia Zhou\, è l’antico sistema che comprende tutto ciò che esiste ‘sotto il cielo’\, considerando il mondo nella sua interezza come soggetto politico. Questo principio costituì il fondamento del Celeste Impero\, vortice capace di attrarre\, integrare e armonizzare i popoli e le loro culture grazie alla tendenza a includere tutto ciò che è esterno.\nNella realtà globalizzata di oggi\, il concetto di tianxia può offrire una chiave per immaginare un ordine mondiale fondato sulla coesistenza e sull’inclusione invece che sul conflitto e sull’interesse egoistico. È questa la premessa da cui muove il filosofo Zhao Tingyang\, docente della prestigiosa Accademia delle scienze sociali di Pechino e tra i pensatori più brillanti della Cina di oggi\, per esporre una teoria politica che guarda al futuro\, ma che è profondamente radicata tanto nel pensiero cinese classico quanto nella filosofia occidentale.\nLa proposta di una riappropriazione in chiave contemporanea di questo antico principio come via per condurre a un sistema mondiale foriero di vantaggi condivisi è al centro del volume che Zhao ha pubblicato in Cina nel 2016 con il titolo La modernità del tianxia (天下的当代性). Già tradotto nelle principali lingue europee\, è disponibile anche in italiano (con il titolo Sotto il cielo – Tianxia. Un antico sistema per un mondo futuro\, Ubaldini Editore – Roma) grazie all’opera di Alessandra C. Lavagnino\, direttrice dell’Istituto Confucio dell’Università degli studi di Milano. Un intenso e complesso lavoro di cui la traduttrice parlerà martedì 15 aprile alle 14:50 in aula CM11 al Campus Aresu\, ragionando sia sulle sfide traduttive affrontate che sul significato e sull’importanza del testo.\nL’ampia risonanza suscitata in Cina\, le critiche entusiastiche e le vivaci polemiche scatenate a livello internazionale testimoniano l’attualità e l’audacia delle teorie di Zhao\, che il filosofo sviluppa con una creatività linguistica – lessicale e retorica – di cui la traduzione di Lavagnino è attenta a dare conto.\nL’incontro si svolge nell’ambito delle attività seminariali dell’Aula Confucio dell’Università degli studi di Cagliari e all’interno del ciclo di incontri ‘Duihua 对话 – Dialoghi cinesi’\, organizzato dagli insegnamenti di Lingua e cultura cinese.\nIntroduce Barbara Onnis\, referente scientifica dell’Aula Confucio dell’Università degli studi di Cagliari. Moderano Emma Lupano e Filippo Costantini\, docenti di Lingua e cultura cinese all’Università degli studi di Cagliari.\nIngresso libero. \nAlessandra C. Lavagnino è membro del Consiglio direttivo e Direttrice di parte italiana dell’Istituto Confucio dell’Università degli Studi di Milano. Ha svolto attività didattica e di ricerca presso l’Istituto Universitario Orientale di Napoli (oggi Università degli Studi di Napoli L’Orientale)\, e poi presso l’Università degli Studi di Milano come Professore associato e poi Ordinario di Lingua e Cultura Cinese. Qui ha ricoperto anche diversi incarichi di coordinamento\, ed è stata Presidente della Scuola di Scienze della Mediazione Linguistica e Culturale. Ha trascorso molti anni in Cina per studio\, lavoro\, ricerca: ha inaugurato il Lettorato di Italiano presso la Shanghai Foreign Studies University\, ed ha tenuto attività di docenza presso importanti istituzioni accademiche cinesi. È stata Consigliere per la stampa presso l’Ambasciata d’Italia a Pechino. Ha tradotto e curato la pubblicazione di numerosi testi di letteratura cinese antica (Liu Xie\, Il tesoro delle Lettere\, un intaglio di draghi\, Milano 1995\, Cathay\, Torino\, 1993) moderna e contemporanea (Zhang Ailing\, La storia del giogo d’oro\, Milano 2007\, Un amore arreso\, Milano 2009\, Gao Xingjian\, Una canna da pesca per mio nonno\, Milano 2001\, e Il Libro di un uomo solo\, Milano\, 2003\, Lao She\, Il ragazzo del risciò\, Milano 2019)\, ed è autrice di volumi\, saggi accademici e articoli sulla cultura cinese\, tra cui Cultura Cinese\, Roma\, 2013 (con S. Pozzi)\, Cina e Modernità\, Roma\, 2016\, (con B. Mottura). È Accademico fondatore e membro del Consiglio direttivo della Classe di studi sull’Estremo Oriente dell’Accademia Ambrosiana\, membro d’onore dell’AISC (Associazione Italia di Studi Cinesi)\, dell’EACS (European Association for Chinese Studies)\, dell’Associazione cinese di studi sul Wen xin diao long\, (Wen xin diao long xuehui 文心雕龙学会). Fa parte del Comitato scientifico delle riviste Mondo Cinese e Sulla Via del Catai. \nZhao Tingyang\, filosofo della teoria politica e della storia\, insegna all’Istituto di filosofia dell’Accademia cinese delle Scienze sociali. I sui studi vertono principalmente sull’etica e la filosofia politica. È stato Visiting Lecturer all’Università di Harvard e partecipa alla costruzione di un fattivo dialogo fra le culture.
URL:https://aisc-org.it/event/conferenza-di-alessandra-lavagnino-tradurre-il-tianxia-universita-degli-studi-di-cagliari-15-aprile/
LOCATION:Università degli studi di Cagliari\, Campus Aresu\, via San Giorgio 8\, Cagliari\, 09100\, Italia
CATEGORIES:Conferenze
ORGANIZER;CN="Emma%20Lupano%20-%20Dipartimento%20di%20Lettere%20lingue%20e%20beni%20culturali%20universit%C3%A0%20degli%20studi%20di%20Cagliari":MAILTO:emma.lupano@unica.it
END:VEVENT
END:VCALENDAR