BEGIN:VCALENDAR
VERSION:2.0
PRODID:-//AISC - ECPv5.16.4.1//NONSGML v1.0//EN
CALSCALE:GREGORIAN
METHOD:PUBLISH
X-WR-CALNAME:AISC
X-ORIGINAL-URL:https://aisc-org.it
X-WR-CALDESC:Events for AISC
REFRESH-INTERVAL;VALUE=DURATION:PT1H
X-Robots-Tag:noindex
X-PUBLISHED-TTL:PT1H
BEGIN:VTIMEZONE
TZID:Europe/Rome
BEGIN:DAYLIGHT
TZOFFSETFROM:+0100
TZOFFSETTO:+0200
TZNAME:CEST
DTSTART:20250330T010000
END:DAYLIGHT
BEGIN:STANDARD
TZOFFSETFROM:+0200
TZOFFSETTO:+0100
TZNAME:CET
DTSTART:20251026T010000
END:STANDARD
END:VTIMEZONE
BEGIN:VEVENT
DTSTART;TZID=Europe/Rome:20250303T080000
DTEND;TZID=Europe/Rome:20250415T170000
DTSTAMP:20260424T144314
CREATED:20250227T095659Z
LAST-MODIFIED:20250227T095659Z
UID:10192-1740988800-1744736400@aisc-org.it
SUMMARY:Fotogrammi cinesi\, primavera 2025
DESCRIPTION:La rassegna di eventi dedicati alla cultura\, alla letteratura e alla storia cinese presso l’Università di Bologna\, per il semestre primaverile 2025.
URL:https://aisc-org.it/event/fotogrammi-cinesi-primavera-2025/
LOCATION:Università di Bologna (Dipartimento di Lingue\, Letterature e Culture Moderne)\, Via Cartoleria\, 5\, Bologna\, Italia
CATEGORIES:Conferenze
ATTACH;FMTTYPE=image/jpeg:https://aisc-org.it/wp-content/uploads/2025/02/Fotogrammi-cinese-merged-scaled.jpg
END:VEVENT
BEGIN:VEVENT
DTSTART;TZID=Europe/Rome:20250319T100000
DTEND;TZID=Europe/Rome:20250319T173000
DTSTAMP:20260424T144314
CREATED:20250227T100007Z
LAST-MODIFIED:20250228T182534Z
UID:10196-1742378400-1742405400@aisc-org.it
SUMMARY:Risemantizzare gli stereotipi di genere nelle società asiatiche del XXI secolo
DESCRIPTION:Riproduzioni\, esperimenti e contestazioni tra Cina e Giappone.\n\nPartecipanti: prof.ssa Sabrina Ardizzoni (Unistrasi)\, Marco Taddei (Unibg)\, prof.ssa Chiara Bertulessi (Insubria)\, Dott. Marco del Din (Heidelberg)\, dott.ssa Cristina Manzone.\nSeminario a cura dei proff. Francesco Vitucci\, Tommaso Pellin\, Federico Picerni del Dipartimento di Lingue\, Letterature e Culture Moderne dell’Alma Mater. \n19 Marzo 2025\, 1000 \nAula Prodi (San Giovanni in Monte\, 2 – Bologna)
URL:https://aisc-org.it/event/risemantizzare-gli-stereotipi-di-genere-nelle-societa-asiatiche-del-xxi-secolo/
LOCATION:Università di Bologna (Dipartimento di Lingue\, Letterature e Culture Moderne)\, Via Cartoleria\, 5\, Bologna\, Italia
CATEGORIES:Conferenze
ATTACH;FMTTYPE=image/png:https://aisc-org.it/wp-content/uploads/2025/02/Poster-19-marzo-11.02.2025.png
END:VEVENT
BEGIN:VEVENT
DTSTART;TZID=Europe/Rome:20250319T123000
DTEND;TZID=Europe/Rome:20250319T143000
DTSTAMP:20260424T144314
CREATED:20250317T122148Z
LAST-MODIFIED:20250317T122148Z
UID:10292-1742387400-1742394600@aisc-org.it
SUMMARY:Città invisibili\, selve oscure e burattini di legno: la recezione della letteratura italiana in Cina nel XX secolo
DESCRIPTION:19 marzo 2025\, 12:30 – 14:30 \nAula 40\, Edificio U6 Agorà\, Università degli Studi di Milano-Bicocca\, piazza dell’Ateneo Nuovo 1\, Milano \nDurante l’incontro\, la Professoressa Alessandra Brezzi approfondirà il tema della letteratura italiana in traduzione nella Cina del XX secolo. \nL’incontro è rivolto a tutti gli studenti di lingua cinese del Cdl in Comunicazione interculturale e a tutti gli interessati. \nPer informazioni: aulaconfucio@unimib.it
URL:https://aisc-org.it/event/citta-invisibili-selve-oscure-e-burattini-di-legno-la-recezione-della-letteratura-italiana-in-cina-nel-xx-secolo-2/
LOCATION:Università di MIlano Bicocca\, piazza dell'Ateneo Nuovo\, 1\, Milano\, MI\, 20126\, Italia
CATEGORIES:Conferenze
ATTACH;FMTTYPE=application/pdf:https://aisc-org.it/wp-content/uploads/2025/03/BREZZI_seminario.pdf
END:VEVENT
END:VCALENDAR