BEGIN:VCALENDAR
VERSION:2.0
PRODID:-//AISC - ECPv5.16.4.1//NONSGML v1.0//EN
CALSCALE:GREGORIAN
METHOD:PUBLISH
X-WR-CALNAME:AISC
X-ORIGINAL-URL:https://aisc-org.it
X-WR-CALDESC:Events for AISC
REFRESH-INTERVAL;VALUE=DURATION:PT1H
X-Robots-Tag:noindex
X-PUBLISHED-TTL:PT1H
BEGIN:VTIMEZONE
TZID:Europe/Rome
BEGIN:DAYLIGHT
TZOFFSETFROM:+0100
TZOFFSETTO:+0200
TZNAME:CEST
DTSTART:20240331T010000
END:DAYLIGHT
BEGIN:STANDARD
TZOFFSETFROM:+0200
TZOFFSETTO:+0100
TZNAME:CET
DTSTART:20241027T010000
END:STANDARD
END:VTIMEZONE
BEGIN:VEVENT
DTSTART;TZID=Europe/Rome:20240711T090000
DTEND;TZID=Europe/Rome:20240712T170000
DTSTAMP:20260425T050204
CREATED:20240621T123338Z
LAST-MODIFIED:20240621T123338Z
UID:9003-1720688400-1720803600@aisc-org.it
SUMMARY:Giornate studio "Tuscany Health Ecosystem - Tecnologie avanzate\, medicina narrativa e comunicazione interculturale"\, UNISTRASI 11-12/07
DESCRIPTION:Giovedì 11 luglio e venerdì 12 luglio si terranno presso la sede UNISTRASI di Piazza Rosselli due giornate di studio dal titolo “Tuscany Health Ecosystem – Tecnologie avanzate\, medicina narrativa e comunicazione interculturale”. L’iniziativa è organizzata nell’ambito del progetto PNRR THE Spoke 3 (Advanced Technologies\, Methods and Materials for Human Health and Well-being) e ha l’obiettivo di illustrare lo stato di avanzamento del progetto\, condividendo con esperte/i i primi risultati raggiunti e affrontando i seguenti temi: Tecnologie avanzate per la terza età: uno sguardo sull’Asia orientale (Panel 1); Comunicazione e medicina narrativa (Panel 2); Mediazione in ambito sanitario e prospettive interculturali (Panel 3); Medicina\, emigrazione\, prospettive interculturali (Panel 4).\nL’iniziativa ospiterà relatori e relatrici provenienti dall’Italia e dall’estero e le lingue di lavoro saranno l’italiano e l’inglese. La partecipazione è gratuita e sarà possibile seguire l’iniziativa in presenza o da remoto via Zoom (v. dettagli nel programma). Un focus particolare sarà dedicato alla mediazione in lingua cinese. \nSi allegano la locandina e il programma in italiano e in inglese. \nGiornateStudi_programma_ITAdef \nGiornateStudi_program_ENdef \nLOCANDINA GS A3
URL:https://aisc-org.it/event/giornate-studio-tuscany-health-ecosystem-tecnologie-avanzate-medicina-narrativa-e-comunicazione-interculturale-unistrasi-11-12-07/
LOCATION:Università per Stranieri di Siena\, P.zza Rosselli\, SIENA\, Italia
CATEGORIES:Conferenze
ATTACH;FMTTYPE=image/png:https://aisc-org.it/wp-content/uploads/2024/06/Immagine-Spoke-3.png
END:VEVENT
END:VCALENDAR