BEGIN:VCALENDAR
VERSION:2.0
PRODID:-//AISC - ECPv5.16.4.1//NONSGML v1.0//EN
CALSCALE:GREGORIAN
METHOD:PUBLISH
X-WR-CALNAME:AISC
X-ORIGINAL-URL:https://aisc-org.it
X-WR-CALDESC:Events for AISC
REFRESH-INTERVAL;VALUE=DURATION:PT1H
X-Robots-Tag:noindex
X-PUBLISHED-TTL:PT1H
BEGIN:VTIMEZONE
TZID:Europe/Rome
BEGIN:DAYLIGHT
TZOFFSETFROM:+0100
TZOFFSETTO:+0200
TZNAME:CEST
DTSTART:20260329T010000
END:DAYLIGHT
BEGIN:STANDARD
TZOFFSETFROM:+0200
TZOFFSETTO:+0100
TZNAME:CET
DTSTART:20261025T010000
END:STANDARD
END:VTIMEZONE
BEGIN:VEVENT
DTSTART;TZID=Europe/Rome:20260331T120000
DTEND;TZID=Europe/Rome:20260515T170000
DTSTAMP:20260421T161027
CREATED:20260228T084739Z
LAST-MODIFIED:20260228T085143Z
UID:12106-1774958400-1778864400@aisc-org.it
SUMMARY:Ciclo di seminari: Esperienze audiovisive nella Cina contemporanea
DESCRIPTION:Ciclo di seminari: Esperienze audiovisive nella Cina contemporanea\nL’Università di Siena\, sede di Arezzo\, ospiterà un ciclo di incontri dedicato all’esplorazione del panorama audiovisivo cinese contemporaneo. Il percorso\, organizzato nell’ambito dei corsi di studio in Lingue per la Comunicazione Interculturale e d’Impresa e Lingue per l’Impresa e lo Sviluppo\, offre un approfondimento critico su televisione\, cinema e documentario. \nL’iniziativa gode del patrocinio dell’Aula Confucio di Arezzo. \nProgramma degli incontri \n31 Marzo\, ore 12:30 \nValeria Varriano (Università Orientale\, Napoli) \nLa televisione in Cina: memoria\, identità e narrazioni collettive dalla nascita ai grandi serial  \n08 Aprile\, ore 8:30  \nChiara Lepri (Università Sapienza\, Roma)  \nIl cinema cinese post-riforme. Sguardi sugli sviluppi narrativi ed eroici della “melodia principale”  \n15 Maggio\, ore 11:00  \n Desireé Marianini (Università Sapienza\, Roma)  \nRaccontare il reale e la memoria individuale: la svolta del documentario cinese negli anni Novanta \nTutti gli incontri si terranno in Aula 19\, Palazzina Uomini – Campus del Pionta\, Arezzo.  Dipartimento di Filologia e Critica delle Letterature Antiche e Moderne DFCLAM. \nPer informazioni gianluigi.negro@unisi.it e ornella.denigris@unisi.it \n 
URL:https://aisc-org.it/event/ciclo-di-seminari-esperienze-audiovisive-nella-cina-contemporanea/
LOCATION:Università di Siena – Campus di Arezzo\, viale Luigi cittadini 33\, Arezzo
CATEGORIES:Seminari
ATTACH;FMTTYPE=image/jpeg:https://aisc-org.it/wp-content/uploads/2026/02/Ciclo-audiovisivo.jpg
END:VEVENT
BEGIN:VEVENT
DTSTART;TZID=Europe/Rome:20260413T170000
DTEND;TZID=Europe/Rome:20260413T180000
DTSTAMP:20260421T161027
CREATED:20260331T143028Z
LAST-MODIFIED:20260331T143028Z
UID:12180-1776099600-1776103200@aisc-org.it
SUMMARY:Parliamo di libri – La muraglia d’acciaio. Le forze armate cinesi tra cambiamento e continuità
DESCRIPTION:Il 13 aprile\, in occasione del nostro consueto appuntamento della rubrica “Parliamo di libri” su YouTube\, avremo il piacere di presentare il volume La muraglia d’acciaio. Le forze armate cinesi tra cambiamento e continuità di Simone Dossi (Il Mulino\, 2025). \nDallo Stretto di Taiwan alle operazioni di peacekeeping delle Nazioni Unite\, le Forze armate cinesi sono oggi una presenza ben visibile nell’arena politica internazionale. A loro spetta il compito di difendere interessi nazionali sempre più diversificati\, operando alle frontiere dell’innovazione tecnologica in campo militare – una moderna “grande muraglia d’acciaio”\, secondo la metafora in uso nel discorso ufficiale cinese. Fino a pochi decenni fa\, tuttavia\, queste stesse Forze armate apparivano come un’organizzazione militare arretrata e incapace di proiettarsi al di là dei confini nazionali. Che cosa spiega questa profonda trasformazione? Quanto hanno pesato sfide e opportunità derivanti da un ambiente internazionale in costante mutamento? E quale ruolo hanno giocato le dinamiche politiche interne al paese\, in particolare il rapporto tra Forze armate e Partito comunista? \nIntervengono Simone Dossi e Guido Samarani. \nModera l’incontro Bettina Mottura.
URL:https://aisc-org.it/event/parliamo-di-libri-la-muraglia-dacciaio-le-forze-armate-cinesi-tra-cambiamento-e-continuita/
LOCATION:Canale YouTube dell’Istituto Confucio dell’Università degli Studi di Milano
ATTACH;FMTTYPE=image/png:https://aisc-org.it/wp-content/uploads/2026/03/Locandina-La-muraglia-dacciaio.png
END:VEVENT
END:VCALENDAR